BEGIN:VCALENDAR
VERSION:2.0
PRODID:-//OpenGeoHub Foundation: Connect | Create | Share | Repeat - ECPv6.15.20//NONSGML v1.0//EN
CALSCALE:GREGORIAN
METHOD:PUBLISH
X-WR-CALNAME:OpenGeoHub Foundation: Connect | Create | Share | Repeat
X-ORIGINAL-URL:https://opengeohub.org
X-WR-CALDESC:Events for OpenGeoHub Foundation: Connect | Create | Share | Repeat
REFRESH-INTERVAL;VALUE=DURATION:PT1H
X-Robots-Tag:noindex
X-PUBLISHED-TTL:PT1H
BEGIN:VTIMEZONE
TZID:UTC
BEGIN:STANDARD
TZOFFSETFROM:+0000
TZOFFSETTO:+0000
TZNAME:UTC
DTSTART:20200101T000000
END:STANDARD
END:VTIMEZONE
BEGIN:VEVENT
DTSTART;TZID=UTC:20210901T080000
DTEND;TZID=UTC:20210903T170000
DTSTAMP:20260422T073757
CREATED:20210819T092027Z
LAST-MODIFIED:20211216T102053Z
UID:150165-1630483200-1630688400@opengeohub.org
SUMMARY:Summer School 2021
DESCRIPTION:The 2021 event took place from 1st to 3rd of September virtually\, with all training sessions being broadcasted live on Zoom\, giving everyone the opportunity to attend and network from anywhere on the globe! \nThe Summer School 2021 featured: \n\nLive presentations and demos by leading R and OSGeo developers;\n2 days of training sessions and R / OSGeo tutorials;\n1 day of R-Spatial workshops;\nDiscussion panels and break-out rooms;
URL:https://opengeohub.org/event/summer-school-2021/
LOCATION:Virtual
END:VEVENT
BEGIN:VEVENT
DTSTART;TZID=UTC:20210906T090000
DTEND;TZID=UTC:20210906T170000
DTSTAMP:20260422T073757
CREATED:20210407T092910Z
LAST-MODIFIED:20211216T102031Z
UID:150177-1630918800-1630947600@opengeohub.org
SUMMARY:Open Data Science Europe Workshop
DESCRIPTION:The Open Data Science Europe Workshop will be held at the Wageningen International Conference Center (WICC). \n\nAbstract submission deadline: 1st of May 2021\nRegistration deadline: 1st of July 2021\n\nThis event is sponsored by the OpenGeoHub foundation: no participation fees will be charged. Participants are\, however\, expected to finance their own travel and accommodation expenses. Majority of lectures will be broadcasted live using Zoom and Youtube channels. To submit an abstract and/or register please visit: https://opendatascience.eu \n 
URL:https://opengeohub.org/event/open-data-science-europe-workshop/
LOCATION:Wageningen International Conference Center\, Wageningen International Conference Center\, Wageningen\, Netherlands
END:VEVENT
END:VCALENDAR