BEGIN:VCALENDAR
VERSION:2.0
PRODID:-//OpenGeoHub Foundation: Connect | Create | Share | Repeat - ECPv6.15.20//NONSGML v1.0//EN
CALSCALE:GREGORIAN
METHOD:PUBLISH
X-ORIGINAL-URL:https://opengeohub.org
X-WR-CALDESC:Events for OpenGeoHub Foundation: Connect | Create | Share | Repeat
REFRESH-INTERVAL;VALUE=DURATION:PT1H
X-Robots-Tag:noindex
X-PUBLISHED-TTL:PT1H
BEGIN:VTIMEZONE
TZID:UTC
BEGIN:STANDARD
TZOFFSETFROM:+0000
TZOFFSETTO:+0000
TZNAME:UTC
DTSTART:20210101T000000
END:STANDARD
END:VTIMEZONE
BEGIN:VEVENT
DTSTART;VALUE=DATE:20220717
DTEND;VALUE=DATE:20220721
DTSTAMP:20260421T171325
CREATED:20220519T093202Z
LAST-MODIFIED:20220519T093202Z
UID:152657-1658016000-1658361599@opengeohub.org
SUMMARY:Open-Earth-Monitor Project Launch
DESCRIPTION:A cyberinfrastructure to accelerate the uptake of environmental information and help build user communities at European and global levels \n\nHorizon Europe > CL6-2021 > GOVERNANCE-01-16\nDate: July 17–20\, 2022\nLocation: Wageningen University Campus\, Forum Building\, room C222\, Droevendaalsesteeg 2 Wageningen\nOfficial website: https://earthmonitor.org/\nInternal (for partners only)\n\nObjectives:\n\nPrepare and launch basic infrastructure for the project management including: project website\, initial communication and dissemination plan\, a working project management system\, common and public calendars (to add events\, deadlines etc);\nStart doing the production work on first deliverables including: D1.1 Project governance guidelines\, D1.2 Implementation plan 2022-2026 1st version\, D1.3 Data Management Plan (DMP) 1st version;\nAnnounce the project publicly\, collect initial feedback and start networking with potential partner projects and organizations;\nAnnounce the job openings and important project events in year 2022 and 2023;\nInitiate a newsletter (public + internal) and a Medium channel where all important blog posts will be published;\n\nAbout Open-Earth-Monitor project\nOpen-Earth-Monitor is a Horizon Europe project gathering a consortium of 23 organizations with a total budget of about 13M EUR. The overall objective of the Open-Earth-Monitor is to build a FAIR-compliant cyberinfrastructure\, based on the cloud-based implementation of open source software\, to serve robust and generic data science tools to a diversity of European and global programmes and actions (e.g. European Green Deal actions\, Copernicus Land Monitoring Programme\, Copernicus Climate Change Service\, GEOSS\, Destination Earth and similar) for the ultimate purpose of increasing the health and quality of life of EU citizens now and into the future. Specific project objectives include: \n\nProduce an inventory of user needs\, data and knowledge that will be used to develop a general framework for increasing uptake and accessibility/exploitability of environmental observation information.\nDesign\, implement and release an operational solution for processing and serving EO data\, environmental in-situ-data\, and AI\, ML and HPC models (OEMC-computing-engine).\nDesign\, implement and release a suite of intuitive tools to enable targeted end-users to monitor the status of natural resources at European / Global scales and production of environmental B2B solutions.\nDesign\, implement and release a comprehensive and systematic platform to enhance the FAIRness (findability\, accessibility\, interoperability and reusability) of environmental observation data.\nAchieve notable and permanent improvement in access for European stakeholders to existing European and Global environmental observation data and actionable information.
URL:https://opengeohub.org/event/open-earth-monitor-project-launch/
LOCATION:Wageningen University Campus\, Droevendaalsesteeg 2\, Wageningen\, Netherlands
CATEGORIES:Project
ATTACH;FMTTYPE=image/png:https://opengeohub.org/wp-content/uploads/2022/05/OEM_snap-1.png
END:VEVENT
END:VCALENDAR