BEGIN:VCALENDAR
VERSION:2.0
PRODID:-//OpenGeoHub Foundation: Connect | Create | Share | Repeat - ECPv6.15.20//NONSGML v1.0//EN
CALSCALE:GREGORIAN
METHOD:PUBLISH
X-WR-CALNAME:OpenGeoHub Foundation: Connect | Create | Share | Repeat
X-ORIGINAL-URL:https://opengeohub.org
X-WR-CALDESC:Events for OpenGeoHub Foundation: Connect | Create | Share | Repeat
REFRESH-INTERVAL;VALUE=DURATION:PT1H
X-Robots-Tag:noindex
X-PUBLISHED-TTL:PT1H
BEGIN:VTIMEZONE
TZID:UTC
BEGIN:STANDARD
TZOFFSETFROM:+0000
TZOFFSETTO:+0000
TZNAME:UTC
DTSTART:20210101T000000
END:STANDARD
END:VTIMEZONE
BEGIN:VEVENT
DTSTART;VALUE=DATE:20220501
DTEND;VALUE=DATE:20220502
DTSTAMP:20260421T195051
CREATED:20220407T093450Z
LAST-MODIFIED:20220407T093450Z
UID:152514-1651363200-1651449599@opengeohub.org
SUMMARY:Applications deadline for the OpenGeoHub vacancies 2022
DESCRIPTION:Last call to apply for the OpenGeoHub vacancies: \n\nPost-doctoral data scientist: Geocomputation for global environmental monitoring\nResearch assistant / PhD candidate: Geocomputation for econometric assessment of ecosystem services\nResearch assistant / PhD candidate: Land Degradation & Land Potential modelling\nProject manager – project coordinator assistant\nCommunication officer/multimedia assistant\n\nCheck out the general selection process to work at our institute! \nVacancies will close on May 1st -end of the day.
URL:https://opengeohub.org/event/applications-deadline-for-the-opengeohub-vacancies/
ATTACH;FMTTYPE=image/png:https://opengeohub.org/wp-content/uploads/2022/04/OGH_Job_assistant.png
END:VEVENT
END:VCALENDAR