BEGIN:VCALENDAR
VERSION:2.0
PRODID:-//OpenGeoHub Foundation: Connect | Create | Share | Repeat - ECPv6.15.20//NONSGML v1.0//EN
CALSCALE:GREGORIAN
METHOD:PUBLISH
X-WR-CALNAME:OpenGeoHub Foundation: Connect | Create | Share | Repeat
X-ORIGINAL-URL:https://opengeohub.org
X-WR-CALDESC:Events for OpenGeoHub Foundation: Connect | Create | Share | Repeat
REFRESH-INTERVAL;VALUE=DURATION:PT1H
X-Robots-Tag:noindex
X-PUBLISHED-TTL:PT1H
BEGIN:VTIMEZONE
TZID:UTC
BEGIN:STANDARD
TZOFFSETFROM:+0000
TZOFFSETTO:+0000
TZNAME:UTC
DTSTART:20190101T000000
END:STANDARD
END:VTIMEZONE
BEGIN:VEVENT
DTSTART;TZID=UTC:20200817T080000
DTEND;TZID=UTC:20200821T170000
DTSTAMP:20260423T080637
CREATED:20210111T093256Z
LAST-MODIFIED:20211216T102416Z
UID:150184-1597651200-1598029200@opengeohub.org
SUMMARY:OGH Summer School Wageningen 2020
DESCRIPTION:The OpenGeoHub 2020 Summer School aims at bringing together the leading FOSS4G and R spatial developers (i.e. actual people involved in developing\, documenting and maintaining packages). Lecturers run tutorials and introduction/motivation speeches which will be partially video-recorded. The topics of the summer school are: \n\nNew R packages and functionality\, new FOSS4G software and standards\,\nGeocomputing using R and Open Source GIS GDAL\, GRASS GIS\, SAGA GIS\, QGIS\,\nProcessing large raster data sets using R\,\nCombining computing using R and Python\,\nUsing FOSS4G software for predictive soil\, vegetation and environmental mapping\,\n\nThe special theme of the Summer School 2020 is: \n“Developing Machine Learning Algorithms for spatial and spatiotemporal data science problems”
URL:https://opengeohub.org/event/ogh-summer-school-wageningen-2020/
LOCATION:Wageningen International Conference Center\, Wageningen International Conference Center\, Wageningen\, Netherlands
END:VEVENT
END:VCALENDAR